BEGIN:VCALENDAR
VERSION:2.0
PRODID:-//CLACSO - ECPv6.15.20//NONSGML v1.0//EN
CALSCALE:GREGORIAN
METHOD:PUBLISH
X-WR-CALNAME:CLACSO
X-ORIGINAL-URL:https://www.clacso.org
X-WR-CALDESC:Eventos para CLACSO
REFRESH-INTERVAL;VALUE=DURATION:PT1H
X-Robots-Tag:noindex
X-PUBLISHED-TTL:PT1H
BEGIN:VTIMEZONE
TZID:UTC
BEGIN:STANDARD
TZOFFSETFROM:+0000
TZOFFSETTO:+0000
TZNAME:UTC
DTSTART:20250101T000000
END:STANDARD
END:VTIMEZONE
BEGIN:VEVENT
DTSTART;TZID=UTC:20260423T080000
DTEND;TZID=UTC:20260423T170000
DTSTAMP:20260423T021024
CREATED:20260221T150910Z
LAST-MODIFIED:20260422T150534Z
UID:10000554-1776931200-1776963600@www.clacso.org
SUMMARY:Seminario Internacional. Marx: crisis multidimensional\, imperialismo\, movilidad humana y justicia ambiental en el capitalismo tardío
DESCRIPTION: 🗓 Jueves 23 de abril de 2026⏰ 09:00 a.m. (hora México Centro)💻 Modalidad: virtual (Zoom) \n\n\n\nSeminario internacional «Marx: crisis multidimensional\, imperialismo\, movilidad humana y justicia ambiental en el capitalismo tardío». \n\n\n\nSegundo encuentro: Marxismo y Ecología \n\n\n\nLa Universidad Autónoma de Zacatecas invita a participar del Seminario Internacional “Marx: crisis multidimensional\, imperialismo\, movilidad humana y justicia ambiental en el capitalismo tardío”\, un espacio de reflexión crítica sobre las dinámicas contemporáneas del capitalismo y sus múltiples impactos sociales\, económicos y ambientales. \n\n\n\nLa segunda sesión abordará el eje “Marxismo y ecología”\, y estará a cargo de Michael Löwy. \n\n\n\nEl seminario propone generar un espacio de análisis e intercambio académico en torno a problemáticas clave como el imperialismo\, la movilidad humana y la justicia ambiental\, en el contexto de las transformaciones del capitalismo contemporáneo.Inscripción: https://forms.gle/vhtxKaujZgQGDZrb7Informes: difusion.uaed@gmail.com
URL:https://www.clacso.org/actividad/seminario-internacional-marx-crisis-multidimensional-imperialismo-movilidad-humana-y-justicia-ambiental-en-el-capitalismo-tardio-2/2026-04-23/
CATEGORIES:Diversos Grupos de Trabajo,Grupo de Trabajo Historia y coyuntura: perspectivas marxistas,Grupos de Trabajo,Grupos de Trabajo 2023-2025
ATTACH;FMTTYPE=image/jpeg:https://www.clacso.org/wp-content/uploads/2026/02/Seminario-Marxismo.jpg
END:VEVENT
BEGIN:VEVENT
DTSTART;TZID=UTC:20260424T080000
DTEND;TZID=UTC:20260424T170000
DTSTAMP:20260423T021024
CREATED:20260221T150910Z
LAST-MODIFIED:20260422T150534Z
UID:10000549-1777017600-1777050000@www.clacso.org
SUMMARY:Seminario Internacional. Marx: crisis multidimensional\, imperialismo\, movilidad humana y justicia ambiental en el capitalismo tardío
DESCRIPTION: 🗓 Jueves 23 de abril de 2026⏰ 09:00 a.m. (hora México Centro)💻 Modalidad: virtual (Zoom) \n\n\n\nSeminario internacional «Marx: crisis multidimensional\, imperialismo\, movilidad humana y justicia ambiental en el capitalismo tardío». \n\n\n\nSegundo encuentro: Marxismo y Ecología \n\n\n\nLa Universidad Autónoma de Zacatecas invita a participar del Seminario Internacional “Marx: crisis multidimensional\, imperialismo\, movilidad humana y justicia ambiental en el capitalismo tardío”\, un espacio de reflexión crítica sobre las dinámicas contemporáneas del capitalismo y sus múltiples impactos sociales\, económicos y ambientales. \n\n\n\nLa segunda sesión abordará el eje “Marxismo y ecología”\, y estará a cargo de Michael Löwy. \n\n\n\nEl seminario propone generar un espacio de análisis e intercambio académico en torno a problemáticas clave como el imperialismo\, la movilidad humana y la justicia ambiental\, en el contexto de las transformaciones del capitalismo contemporáneo.Inscripción: https://forms.gle/vhtxKaujZgQGDZrb7Informes: difusion.uaed@gmail.com
URL:https://www.clacso.org/actividad/seminario-internacional-marx-crisis-multidimensional-imperialismo-movilidad-humana-y-justicia-ambiental-en-el-capitalismo-tardio-2/2026-04-24/
CATEGORIES:Diversos Grupos de Trabajo,Grupo de Trabajo Historia y coyuntura: perspectivas marxistas,Grupos de Trabajo,Grupos de Trabajo 2023-2025
ATTACH;FMTTYPE=image/jpeg:https://www.clacso.org/wp-content/uploads/2026/02/Seminario-Marxismo.jpg
END:VEVENT
BEGIN:VEVENT
DTSTART;TZID=UTC:20260522T080000
DTEND;TZID=UTC:20260522T170000
DTSTAMP:20260423T021024
CREATED:20260221T150910Z
LAST-MODIFIED:20260422T150534Z
UID:10000550-1779436800-1779469200@www.clacso.org
SUMMARY:Seminario Internacional. Marx: crisis multidimensional\, imperialismo\, movilidad humana y justicia ambiental en el capitalismo tardío
DESCRIPTION: 🗓 Jueves 23 de abril de 2026⏰ 09:00 a.m. (hora México Centro)💻 Modalidad: virtual (Zoom) \n\n\n\nSeminario internacional «Marx: crisis multidimensional\, imperialismo\, movilidad humana y justicia ambiental en el capitalismo tardío». \n\n\n\nSegundo encuentro: Marxismo y Ecología \n\n\n\nLa Universidad Autónoma de Zacatecas invita a participar del Seminario Internacional “Marx: crisis multidimensional\, imperialismo\, movilidad humana y justicia ambiental en el capitalismo tardío”\, un espacio de reflexión crítica sobre las dinámicas contemporáneas del capitalismo y sus múltiples impactos sociales\, económicos y ambientales. \n\n\n\nLa segunda sesión abordará el eje “Marxismo y ecología”\, y estará a cargo de Michael Löwy. \n\n\n\nEl seminario propone generar un espacio de análisis e intercambio académico en torno a problemáticas clave como el imperialismo\, la movilidad humana y la justicia ambiental\, en el contexto de las transformaciones del capitalismo contemporáneo.Inscripción: https://forms.gle/vhtxKaujZgQGDZrb7Informes: difusion.uaed@gmail.com
URL:https://www.clacso.org/actividad/seminario-internacional-marx-crisis-multidimensional-imperialismo-movilidad-humana-y-justicia-ambiental-en-el-capitalismo-tardio-2/2026-05-22/
CATEGORIES:Diversos Grupos de Trabajo,Grupo de Trabajo Historia y coyuntura: perspectivas marxistas,Grupos de Trabajo,Grupos de Trabajo 2023-2025
ATTACH;FMTTYPE=image/jpeg:https://www.clacso.org/wp-content/uploads/2026/02/Seminario-Marxismo.jpg
END:VEVENT
BEGIN:VEVENT
DTSTART;TZID=UTC:20260626T080000
DTEND;TZID=UTC:20260626T170000
DTSTAMP:20260423T021024
CREATED:20260221T150910Z
LAST-MODIFIED:20260422T150534Z
UID:10000551-1782460800-1782493200@www.clacso.org
SUMMARY:Seminario Internacional. Marx: crisis multidimensional\, imperialismo\, movilidad humana y justicia ambiental en el capitalismo tardío
DESCRIPTION: 🗓 Jueves 23 de abril de 2026⏰ 09:00 a.m. (hora México Centro)💻 Modalidad: virtual (Zoom) \n\n\n\nSeminario internacional «Marx: crisis multidimensional\, imperialismo\, movilidad humana y justicia ambiental en el capitalismo tardío». \n\n\n\nSegundo encuentro: Marxismo y Ecología \n\n\n\nLa Universidad Autónoma de Zacatecas invita a participar del Seminario Internacional “Marx: crisis multidimensional\, imperialismo\, movilidad humana y justicia ambiental en el capitalismo tardío”\, un espacio de reflexión crítica sobre las dinámicas contemporáneas del capitalismo y sus múltiples impactos sociales\, económicos y ambientales. \n\n\n\nLa segunda sesión abordará el eje “Marxismo y ecología”\, y estará a cargo de Michael Löwy. \n\n\n\nEl seminario propone generar un espacio de análisis e intercambio académico en torno a problemáticas clave como el imperialismo\, la movilidad humana y la justicia ambiental\, en el contexto de las transformaciones del capitalismo contemporáneo.Inscripción: https://forms.gle/vhtxKaujZgQGDZrb7Informes: difusion.uaed@gmail.com
URL:https://www.clacso.org/actividad/seminario-internacional-marx-crisis-multidimensional-imperialismo-movilidad-humana-y-justicia-ambiental-en-el-capitalismo-tardio-2/2026-06-26/
CATEGORIES:Diversos Grupos de Trabajo,Grupo de Trabajo Historia y coyuntura: perspectivas marxistas,Grupos de Trabajo,Grupos de Trabajo 2023-2025
ATTACH;FMTTYPE=image/jpeg:https://www.clacso.org/wp-content/uploads/2026/02/Seminario-Marxismo.jpg
END:VEVENT
BEGIN:VEVENT
DTSTART;TZID=UTC:20260724T080000
DTEND;TZID=UTC:20260724T170000
DTSTAMP:20260423T021024
CREATED:20260221T150910Z
LAST-MODIFIED:20260422T150534Z
UID:10000552-1784880000-1784912400@www.clacso.org
SUMMARY:Seminario Internacional. Marx: crisis multidimensional\, imperialismo\, movilidad humana y justicia ambiental en el capitalismo tardío
DESCRIPTION: 🗓 Jueves 23 de abril de 2026⏰ 09:00 a.m. (hora México Centro)💻 Modalidad: virtual (Zoom) \n\n\n\nSeminario internacional «Marx: crisis multidimensional\, imperialismo\, movilidad humana y justicia ambiental en el capitalismo tardío». \n\n\n\nSegundo encuentro: Marxismo y Ecología \n\n\n\nLa Universidad Autónoma de Zacatecas invita a participar del Seminario Internacional “Marx: crisis multidimensional\, imperialismo\, movilidad humana y justicia ambiental en el capitalismo tardío”\, un espacio de reflexión crítica sobre las dinámicas contemporáneas del capitalismo y sus múltiples impactos sociales\, económicos y ambientales. \n\n\n\nLa segunda sesión abordará el eje “Marxismo y ecología”\, y estará a cargo de Michael Löwy. \n\n\n\nEl seminario propone generar un espacio de análisis e intercambio académico en torno a problemáticas clave como el imperialismo\, la movilidad humana y la justicia ambiental\, en el contexto de las transformaciones del capitalismo contemporáneo.Inscripción: https://forms.gle/vhtxKaujZgQGDZrb7Informes: difusion.uaed@gmail.com
URL:https://www.clacso.org/actividad/seminario-internacional-marx-crisis-multidimensional-imperialismo-movilidad-humana-y-justicia-ambiental-en-el-capitalismo-tardio-2/2026-07-24/
CATEGORIES:Diversos Grupos de Trabajo,Grupo de Trabajo Historia y coyuntura: perspectivas marxistas,Grupos de Trabajo,Grupos de Trabajo 2023-2025
ATTACH;FMTTYPE=image/jpeg:https://www.clacso.org/wp-content/uploads/2026/02/Seminario-Marxismo.jpg
END:VEVENT
BEGIN:VEVENT
DTSTART;TZID=UTC:20260821T080000
DTEND;TZID=UTC:20260821T170000
DTSTAMP:20260423T021024
CREATED:20260221T150910Z
LAST-MODIFIED:20260422T150534Z
UID:10000553-1787299200-1787331600@www.clacso.org
SUMMARY:Seminario Internacional. Marx: crisis multidimensional\, imperialismo\, movilidad humana y justicia ambiental en el capitalismo tardío
DESCRIPTION: 🗓 Jueves 23 de abril de 2026⏰ 09:00 a.m. (hora México Centro)💻 Modalidad: virtual (Zoom) \n\n\n\nSeminario internacional «Marx: crisis multidimensional\, imperialismo\, movilidad humana y justicia ambiental en el capitalismo tardío». \n\n\n\nSegundo encuentro: Marxismo y Ecología \n\n\n\nLa Universidad Autónoma de Zacatecas invita a participar del Seminario Internacional “Marx: crisis multidimensional\, imperialismo\, movilidad humana y justicia ambiental en el capitalismo tardío”\, un espacio de reflexión crítica sobre las dinámicas contemporáneas del capitalismo y sus múltiples impactos sociales\, económicos y ambientales. \n\n\n\nLa segunda sesión abordará el eje “Marxismo y ecología”\, y estará a cargo de Michael Löwy. \n\n\n\nEl seminario propone generar un espacio de análisis e intercambio académico en torno a problemáticas clave como el imperialismo\, la movilidad humana y la justicia ambiental\, en el contexto de las transformaciones del capitalismo contemporáneo.Inscripción: https://forms.gle/vhtxKaujZgQGDZrb7Informes: difusion.uaed@gmail.com
URL:https://www.clacso.org/actividad/seminario-internacional-marx-crisis-multidimensional-imperialismo-movilidad-humana-y-justicia-ambiental-en-el-capitalismo-tardio-2/2026-08-21/
CATEGORIES:Diversos Grupos de Trabajo,Grupo de Trabajo Historia y coyuntura: perspectivas marxistas,Grupos de Trabajo,Grupos de Trabajo 2023-2025
ATTACH;FMTTYPE=image/jpeg:https://www.clacso.org/wp-content/uploads/2026/02/Seminario-Marxismo.jpg
END:VEVENT
END:VCALENDAR