BEGIN:VCALENDAR
VERSION:2.0
PRODID:-//CLACSO - ECPv6.15.20//NONSGML v1.0//EN
CALSCALE:GREGORIAN
METHOD:PUBLISH
X-WR-CALNAME:CLACSO
X-ORIGINAL-URL:https://www.clacso.org
X-WR-CALDESC:Eventos para CLACSO
REFRESH-INTERVAL;VALUE=DURATION:PT1H
X-Robots-Tag:noindex
X-PUBLISHED-TTL:PT1H
BEGIN:VTIMEZONE
TZID:America/Mexico_City
BEGIN:STANDARD
TZOFFSETFROM:-0600
TZOFFSETTO:-0600
TZNAME:CST
DTSTART:20250101T000000
END:STANDARD
END:VTIMEZONE
BEGIN:VEVENT
DTSTART;TZID=America/Mexico_City:20260530T000000
DTEND;TZID=America/Mexico_City:20261130T235959
DTSTAMP:20260421T225723
CREATED:20260319T224700Z
LAST-MODIFIED:20260421T184244Z
UID:10000544-1780099200-1796083199@www.clacso.org
SUMMARY:Convocatoria | XIV Congreso Internacional de Pensamiento Latinoamericano “La construcción de América Latina”
DESCRIPTION:📅 Envío de resúmenes: hasta el 30 de junio de 2026📅 Notificación de aceptación: 30 de julio de 2026📅 Envío de ponencias completas: hasta el 30 de agosto de 2026📍 Universidad de Nariño \nSe encuentra abierta la convocatoria para presentar ponencias en el XIV Congreso Internacional de Pensamiento Latinoamericano “La construcción de América Latina”\, que se realizará en la ciudad de San Juan de Pasto\, Colombia. \nLa convocatoria invita a investigadoras e investigadores\, docentes y estudiantes a participar con trabajos inéditos que aporten al análisis crítico de las dinámicas sociales\, culturales y políticas de América Latina\, así como a la reflexión sobre la construcción del pensamiento latinoamericano. \nLas propuestas podrán inscribirse en distintas mesas temáticas\, entre ellas: pensamiento histórico\, cultural y educativo; pensamiento económico\, político y jurídico; pensamiento filosófico\, literario y estético; y conflicto y postacuerdos en América Latina. \n📩 Envío de propuestas: congresoceilat@gmail.com🔗 Más información: https://ceilat.udenar.edu.co/ \n  \n  \n\nConvocatoria-XIV-Congreso-Internacional-de-Pensamiento-Latinoamericano
URL:https://www.clacso.org/actividad/convocatoria-xiv-congreso-internacional-de-pensamiento-latinoamericano-la-construccion-de-america-latina/2026-05-30/
CATEGORIES:Convocatoria,Derechos, violencias e igualdad de género,Dirección de Investigación,Grupo de Trabajo Cuidados y género,Grupos de Trabajo,Grupos de Trabajo 2026-2028,Plataformas para el Diálogo Social (PDS)
ATTACH;FMTTYPE=image/jpeg:https://www.clacso.org/wp-content/uploads/2026/03/Afiche-XIV-Congreso-Internacional-de-Pensamiento-Latinoamericano_page-0001-1.jpg
END:VEVENT
BEGIN:VEVENT
DTSTART;TZID=America/Mexico_City:20260630T000000
DTEND;TZID=America/Mexico_City:20260707T235959
DTSTAMP:20260421T225723
CREATED:20260319T224700Z
LAST-MODIFIED:20260421T184244Z
UID:10000545-1782777600-1783468799@www.clacso.org
SUMMARY:Convocatoria | XIV Congreso Internacional de Pensamiento Latinoamericano “La construcción de América Latina”
DESCRIPTION:📅 Envío de resúmenes: hasta el 30 de junio de 2026📅 Notificación de aceptación: 30 de julio de 2026📅 Envío de ponencias completas: hasta el 30 de agosto de 2026📍 Universidad de Nariño \nSe encuentra abierta la convocatoria para presentar ponencias en el XIV Congreso Internacional de Pensamiento Latinoamericano “La construcción de América Latina”\, que se realizará en la ciudad de San Juan de Pasto\, Colombia. \nLa convocatoria invita a investigadoras e investigadores\, docentes y estudiantes a participar con trabajos inéditos que aporten al análisis crítico de las dinámicas sociales\, culturales y políticas de América Latina\, así como a la reflexión sobre la construcción del pensamiento latinoamericano. \nLas propuestas podrán inscribirse en distintas mesas temáticas\, entre ellas: pensamiento histórico\, cultural y educativo; pensamiento económico\, político y jurídico; pensamiento filosófico\, literario y estético; y conflicto y postacuerdos en América Latina. \n📩 Envío de propuestas: congresoceilat@gmail.com🔗 Más información: https://ceilat.udenar.edu.co/ \n  \n  \n\nConvocatoria-XIV-Congreso-Internacional-de-Pensamiento-Latinoamericano
URL:https://www.clacso.org/actividad/convocatoria-xiv-congreso-internacional-de-pensamiento-latinoamericano-la-construccion-de-america-latina/2026-06-30/
CATEGORIES:Convocatoria,Derechos, violencias e igualdad de género,Dirección de Investigación,Grupo de Trabajo Cuidados y género,Grupos de Trabajo,Grupos de Trabajo 2026-2028,Plataformas para el Diálogo Social (PDS)
ATTACH;FMTTYPE=image/jpeg:https://www.clacso.org/wp-content/uploads/2026/03/Afiche-XIV-Congreso-Internacional-de-Pensamiento-Latinoamericano_page-0001-1.jpg
END:VEVENT
END:VCALENDAR