BEGIN:VCALENDAR
VERSION:2.0
PRODID:-//CLACSO - ECPv6.15.20//NONSGML v1.0//EN
CALSCALE:GREGORIAN
METHOD:PUBLISH
X-WR-CALNAME:CLACSO
X-ORIGINAL-URL:https://www.clacso.org
X-WR-CALDESC:Eventos para CLACSO
REFRESH-INTERVAL;VALUE=DURATION:PT1H
X-Robots-Tag:noindex
X-PUBLISHED-TTL:PT1H
BEGIN:VTIMEZONE
TZID:America/Mexico_City
BEGIN:STANDARD
TZOFFSETFROM:-0600
TZOFFSETTO:-0600
TZNAME:CST
DTSTART:20250101T000000
END:STANDARD
END:VTIMEZONE
BEGIN:VEVENT
DTSTART;TZID=America/Mexico_City:20260512T000000
DTEND;TZID=America/Mexico_City:20260512T235959
DTSTAMP:20260420T071650
CREATED:20260319T224700Z
LAST-MODIFIED:20260417T154707Z
UID:10000517-1778544000-1778630399@www.clacso.org
SUMMARY:Convocatoria abierta | 59º Congreso Internacional de Americanistas (ICA 2027)
DESCRIPTION:📅 Presentación de simposios y mesas redondas: 20 de marzo al 6 de julio de 2026       Envío de ponencias individuales: 6 de agosto de 2026 al 31 de enero de 2027📍 Universidad Pontificia Bolivariana \n\nSe encuentra abierta la convocatoria para participar en el 59º Congreso Internacional de Americanistas (ICA 2027)\, que se realizará en la ciudad de Medellín\, Colombia. \nBajo el lema “Tradición e innovación: las memorias de las Américas”\, el congreso convoca a la presentación de simposios\, mesas redondas y ponencias individuales en torno a múltiples áreas del conocimiento vinculadas con el estudio de las Américas\, incluyendo ciencias sociales\, humanidades\, estudios culturales\, migraciones\, género\, movimientos sociales\, derechos humanos y medio ambiente. \nEl ICA\, que se realiza desde 1875\, constituye uno de los principales espacios de encuentro académico a nivel internacional\, promoviendo el diálogo interdisciplinario y la construcción colectiva de conocimiento sobre la región. \nLa convocatoria está dirigida a investigadores e investigadoras\, docentes\, estudiantes y profesionales interesados en debatir sobre los desafíos contemporáneos de América Latina y el Caribe en relación con sus procesos históricos y transformaciones actuales. \n📌 Más información y envío de propuestas:https://congresoica.org/home/simposios-y-ponencias-individuales/ \nPrimera circular \n  \n\n\nprimera-circular-ES
URL:https://www.clacso.org/actividad/convocatoria-abierta-59o-congreso-internacional-de-americanistas-ica-2027/2026-05-12/
CATEGORIES:Convocatoria,Derechos, violencias e igualdad de género,Dirección de Investigación,Grupos de Trabajo,Grupos de Trabajo 2026-2028,Plataformas para el Diálogo Social (PDS)
ATTACH;FMTTYPE=image/jpeg:https://www.clacso.org/wp-content/uploads/2026/03/Captura-2026-04-17T122011.143.jpg
END:VEVENT
BEGIN:VEVENT
DTSTART;TZID=America/Mexico_City:20260612T000000
DTEND;TZID=America/Mexico_City:20260612T235959
DTSTAMP:20260420T071650
CREATED:20260319T224700Z
LAST-MODIFIED:20260417T154707Z
UID:10000518-1781222400-1781308799@www.clacso.org
SUMMARY:Convocatoria abierta | 59º Congreso Internacional de Americanistas (ICA 2027)
DESCRIPTION:📅 Presentación de simposios y mesas redondas: 20 de marzo al 6 de julio de 2026       Envío de ponencias individuales: 6 de agosto de 2026 al 31 de enero de 2027📍 Universidad Pontificia Bolivariana \n\nSe encuentra abierta la convocatoria para participar en el 59º Congreso Internacional de Americanistas (ICA 2027)\, que se realizará en la ciudad de Medellín\, Colombia. \nBajo el lema “Tradición e innovación: las memorias de las Américas”\, el congreso convoca a la presentación de simposios\, mesas redondas y ponencias individuales en torno a múltiples áreas del conocimiento vinculadas con el estudio de las Américas\, incluyendo ciencias sociales\, humanidades\, estudios culturales\, migraciones\, género\, movimientos sociales\, derechos humanos y medio ambiente. \nEl ICA\, que se realiza desde 1875\, constituye uno de los principales espacios de encuentro académico a nivel internacional\, promoviendo el diálogo interdisciplinario y la construcción colectiva de conocimiento sobre la región. \nLa convocatoria está dirigida a investigadores e investigadoras\, docentes\, estudiantes y profesionales interesados en debatir sobre los desafíos contemporáneos de América Latina y el Caribe en relación con sus procesos históricos y transformaciones actuales. \n📌 Más información y envío de propuestas:https://congresoica.org/home/simposios-y-ponencias-individuales/ \nPrimera circular \n  \n\n\nprimera-circular-ES
URL:https://www.clacso.org/actividad/convocatoria-abierta-59o-congreso-internacional-de-americanistas-ica-2027/2026-06-12/
CATEGORIES:Convocatoria,Derechos, violencias e igualdad de género,Dirección de Investigación,Grupos de Trabajo,Grupos de Trabajo 2026-2028,Plataformas para el Diálogo Social (PDS)
ATTACH;FMTTYPE=image/jpeg:https://www.clacso.org/wp-content/uploads/2026/03/Captura-2026-04-17T122011.143.jpg
END:VEVENT
BEGIN:VEVENT
DTSTART;TZID=America/Mexico_City:20260712T000000
DTEND;TZID=America/Mexico_City:20260712T235959
DTSTAMP:20260420T071650
CREATED:20260319T224700Z
LAST-MODIFIED:20260417T154707Z
UID:10000519-1783814400-1783900799@www.clacso.org
SUMMARY:Convocatoria abierta | 59º Congreso Internacional de Americanistas (ICA 2027)
DESCRIPTION:📅 Presentación de simposios y mesas redondas: 20 de marzo al 6 de julio de 2026       Envío de ponencias individuales: 6 de agosto de 2026 al 31 de enero de 2027📍 Universidad Pontificia Bolivariana \n\nSe encuentra abierta la convocatoria para participar en el 59º Congreso Internacional de Americanistas (ICA 2027)\, que se realizará en la ciudad de Medellín\, Colombia. \nBajo el lema “Tradición e innovación: las memorias de las Américas”\, el congreso convoca a la presentación de simposios\, mesas redondas y ponencias individuales en torno a múltiples áreas del conocimiento vinculadas con el estudio de las Américas\, incluyendo ciencias sociales\, humanidades\, estudios culturales\, migraciones\, género\, movimientos sociales\, derechos humanos y medio ambiente. \nEl ICA\, que se realiza desde 1875\, constituye uno de los principales espacios de encuentro académico a nivel internacional\, promoviendo el diálogo interdisciplinario y la construcción colectiva de conocimiento sobre la región. \nLa convocatoria está dirigida a investigadores e investigadoras\, docentes\, estudiantes y profesionales interesados en debatir sobre los desafíos contemporáneos de América Latina y el Caribe en relación con sus procesos históricos y transformaciones actuales. \n📌 Más información y envío de propuestas:https://congresoica.org/home/simposios-y-ponencias-individuales/ \nPrimera circular \n  \n\n\nprimera-circular-ES
URL:https://www.clacso.org/actividad/convocatoria-abierta-59o-congreso-internacional-de-americanistas-ica-2027/2026-07-12/
CATEGORIES:Convocatoria,Derechos, violencias e igualdad de género,Dirección de Investigación,Grupos de Trabajo,Grupos de Trabajo 2026-2028,Plataformas para el Diálogo Social (PDS)
ATTACH;FMTTYPE=image/jpeg:https://www.clacso.org/wp-content/uploads/2026/03/Captura-2026-04-17T122011.143.jpg
END:VEVENT
BEGIN:VEVENT
DTSTART;TZID=America/Mexico_City:20260812T000000
DTEND;TZID=America/Mexico_City:20260812T235959
DTSTAMP:20260420T071650
CREATED:20260319T224700Z
LAST-MODIFIED:20260417T154707Z
UID:10000520-1786492800-1786579199@www.clacso.org
SUMMARY:Convocatoria abierta | 59º Congreso Internacional de Americanistas (ICA 2027)
DESCRIPTION:📅 Presentación de simposios y mesas redondas: 20 de marzo al 6 de julio de 2026       Envío de ponencias individuales: 6 de agosto de 2026 al 31 de enero de 2027📍 Universidad Pontificia Bolivariana \n\nSe encuentra abierta la convocatoria para participar en el 59º Congreso Internacional de Americanistas (ICA 2027)\, que se realizará en la ciudad de Medellín\, Colombia. \nBajo el lema “Tradición e innovación: las memorias de las Américas”\, el congreso convoca a la presentación de simposios\, mesas redondas y ponencias individuales en torno a múltiples áreas del conocimiento vinculadas con el estudio de las Américas\, incluyendo ciencias sociales\, humanidades\, estudios culturales\, migraciones\, género\, movimientos sociales\, derechos humanos y medio ambiente. \nEl ICA\, que se realiza desde 1875\, constituye uno de los principales espacios de encuentro académico a nivel internacional\, promoviendo el diálogo interdisciplinario y la construcción colectiva de conocimiento sobre la región. \nLa convocatoria está dirigida a investigadores e investigadoras\, docentes\, estudiantes y profesionales interesados en debatir sobre los desafíos contemporáneos de América Latina y el Caribe en relación con sus procesos históricos y transformaciones actuales. \n📌 Más información y envío de propuestas:https://congresoica.org/home/simposios-y-ponencias-individuales/ \nPrimera circular \n  \n\n\nprimera-circular-ES
URL:https://www.clacso.org/actividad/convocatoria-abierta-59o-congreso-internacional-de-americanistas-ica-2027/2026-08-12/
CATEGORIES:Convocatoria,Derechos, violencias e igualdad de género,Dirección de Investigación,Grupos de Trabajo,Grupos de Trabajo 2026-2028,Plataformas para el Diálogo Social (PDS)
ATTACH;FMTTYPE=image/jpeg:https://www.clacso.org/wp-content/uploads/2026/03/Captura-2026-04-17T122011.143.jpg
END:VEVENT
BEGIN:VEVENT
DTSTART;TZID=America/Mexico_City:20260912T000000
DTEND;TZID=America/Mexico_City:20260912T235959
DTSTAMP:20260420T071650
CREATED:20260319T224700Z
LAST-MODIFIED:20260417T154707Z
UID:10000521-1789171200-1789257599@www.clacso.org
SUMMARY:Convocatoria abierta | 59º Congreso Internacional de Americanistas (ICA 2027)
DESCRIPTION:📅 Presentación de simposios y mesas redondas: 20 de marzo al 6 de julio de 2026       Envío de ponencias individuales: 6 de agosto de 2026 al 31 de enero de 2027📍 Universidad Pontificia Bolivariana \n\nSe encuentra abierta la convocatoria para participar en el 59º Congreso Internacional de Americanistas (ICA 2027)\, que se realizará en la ciudad de Medellín\, Colombia. \nBajo el lema “Tradición e innovación: las memorias de las Américas”\, el congreso convoca a la presentación de simposios\, mesas redondas y ponencias individuales en torno a múltiples áreas del conocimiento vinculadas con el estudio de las Américas\, incluyendo ciencias sociales\, humanidades\, estudios culturales\, migraciones\, género\, movimientos sociales\, derechos humanos y medio ambiente. \nEl ICA\, que se realiza desde 1875\, constituye uno de los principales espacios de encuentro académico a nivel internacional\, promoviendo el diálogo interdisciplinario y la construcción colectiva de conocimiento sobre la región. \nLa convocatoria está dirigida a investigadores e investigadoras\, docentes\, estudiantes y profesionales interesados en debatir sobre los desafíos contemporáneos de América Latina y el Caribe en relación con sus procesos históricos y transformaciones actuales. \n📌 Más información y envío de propuestas:https://congresoica.org/home/simposios-y-ponencias-individuales/ \nPrimera circular \n  \n\n\nprimera-circular-ES
URL:https://www.clacso.org/actividad/convocatoria-abierta-59o-congreso-internacional-de-americanistas-ica-2027/2026-09-12/
CATEGORIES:Convocatoria,Derechos, violencias e igualdad de género,Dirección de Investigación,Grupos de Trabajo,Grupos de Trabajo 2026-2028,Plataformas para el Diálogo Social (PDS)
ATTACH;FMTTYPE=image/jpeg:https://www.clacso.org/wp-content/uploads/2026/03/Captura-2026-04-17T122011.143.jpg
END:VEVENT
BEGIN:VEVENT
DTSTART;TZID=America/Mexico_City:20261116T000000
DTEND;TZID=America/Mexico_City:20261116T235959
DTSTAMP:20260420T071650
CREATED:20260319T224700Z
LAST-MODIFIED:20260417T154707Z
UID:10000522-1794787200-1794873599@www.clacso.org
SUMMARY:Convocatoria abierta | 59º Congreso Internacional de Americanistas (ICA 2027)
DESCRIPTION:📅 Presentación de simposios y mesas redondas: 20 de marzo al 6 de julio de 2026       Envío de ponencias individuales: 6 de agosto de 2026 al 31 de enero de 2027📍 Universidad Pontificia Bolivariana \n\nSe encuentra abierta la convocatoria para participar en el 59º Congreso Internacional de Americanistas (ICA 2027)\, que se realizará en la ciudad de Medellín\, Colombia. \nBajo el lema “Tradición e innovación: las memorias de las Américas”\, el congreso convoca a la presentación de simposios\, mesas redondas y ponencias individuales en torno a múltiples áreas del conocimiento vinculadas con el estudio de las Américas\, incluyendo ciencias sociales\, humanidades\, estudios culturales\, migraciones\, género\, movimientos sociales\, derechos humanos y medio ambiente. \nEl ICA\, que se realiza desde 1875\, constituye uno de los principales espacios de encuentro académico a nivel internacional\, promoviendo el diálogo interdisciplinario y la construcción colectiva de conocimiento sobre la región. \nLa convocatoria está dirigida a investigadores e investigadoras\, docentes\, estudiantes y profesionales interesados en debatir sobre los desafíos contemporáneos de América Latina y el Caribe en relación con sus procesos históricos y transformaciones actuales. \n📌 Más información y envío de propuestas:https://congresoica.org/home/simposios-y-ponencias-individuales/ \nPrimera circular \n  \n\n\nprimera-circular-ES
URL:https://www.clacso.org/actividad/convocatoria-abierta-59o-congreso-internacional-de-americanistas-ica-2027/2026-11-16/
CATEGORIES:Convocatoria,Derechos, violencias e igualdad de género,Dirección de Investigación,Grupos de Trabajo,Grupos de Trabajo 2026-2028,Plataformas para el Diálogo Social (PDS)
ATTACH;FMTTYPE=image/jpeg:https://www.clacso.org/wp-content/uploads/2026/03/Captura-2026-04-17T122011.143.jpg
END:VEVENT
BEGIN:VEVENT
DTSTART;TZID=America/Mexico_City:20261218T000000
DTEND;TZID=America/Mexico_City:20261218T235959
DTSTAMP:20260420T071650
CREATED:20260319T224700Z
LAST-MODIFIED:20260417T154707Z
UID:10000523-1797552000-1797638399@www.clacso.org
SUMMARY:Convocatoria abierta | 59º Congreso Internacional de Americanistas (ICA 2027)
DESCRIPTION:📅 Presentación de simposios y mesas redondas: 20 de marzo al 6 de julio de 2026       Envío de ponencias individuales: 6 de agosto de 2026 al 31 de enero de 2027📍 Universidad Pontificia Bolivariana \n\nSe encuentra abierta la convocatoria para participar en el 59º Congreso Internacional de Americanistas (ICA 2027)\, que se realizará en la ciudad de Medellín\, Colombia. \nBajo el lema “Tradición e innovación: las memorias de las Américas”\, el congreso convoca a la presentación de simposios\, mesas redondas y ponencias individuales en torno a múltiples áreas del conocimiento vinculadas con el estudio de las Américas\, incluyendo ciencias sociales\, humanidades\, estudios culturales\, migraciones\, género\, movimientos sociales\, derechos humanos y medio ambiente. \nEl ICA\, que se realiza desde 1875\, constituye uno de los principales espacios de encuentro académico a nivel internacional\, promoviendo el diálogo interdisciplinario y la construcción colectiva de conocimiento sobre la región. \nLa convocatoria está dirigida a investigadores e investigadoras\, docentes\, estudiantes y profesionales interesados en debatir sobre los desafíos contemporáneos de América Latina y el Caribe en relación con sus procesos históricos y transformaciones actuales. \n📌 Más información y envío de propuestas:https://congresoica.org/home/simposios-y-ponencias-individuales/ \nPrimera circular \n  \n\n\nprimera-circular-ES
URL:https://www.clacso.org/actividad/convocatoria-abierta-59o-congreso-internacional-de-americanistas-ica-2027/2026-12-18/
CATEGORIES:Convocatoria,Derechos, violencias e igualdad de género,Dirección de Investigación,Grupos de Trabajo,Grupos de Trabajo 2026-2028,Plataformas para el Diálogo Social (PDS)
ATTACH;FMTTYPE=image/jpeg:https://www.clacso.org/wp-content/uploads/2026/03/Captura-2026-04-17T122011.143.jpg
END:VEVENT
BEGIN:VEVENT
DTSTART;TZID=America/Mexico_City:20270131T000000
DTEND;TZID=America/Mexico_City:20270131T235959
DTSTAMP:20260420T071650
CREATED:20260319T224700Z
LAST-MODIFIED:20260417T154707Z
UID:10000524-1801353600-1801439999@www.clacso.org
SUMMARY:Convocatoria abierta | 59º Congreso Internacional de Americanistas (ICA 2027)
DESCRIPTION:📅 Presentación de simposios y mesas redondas: 20 de marzo al 6 de julio de 2026       Envío de ponencias individuales: 6 de agosto de 2026 al 31 de enero de 2027📍 Universidad Pontificia Bolivariana \n\nSe encuentra abierta la convocatoria para participar en el 59º Congreso Internacional de Americanistas (ICA 2027)\, que se realizará en la ciudad de Medellín\, Colombia. \nBajo el lema “Tradición e innovación: las memorias de las Américas”\, el congreso convoca a la presentación de simposios\, mesas redondas y ponencias individuales en torno a múltiples áreas del conocimiento vinculadas con el estudio de las Américas\, incluyendo ciencias sociales\, humanidades\, estudios culturales\, migraciones\, género\, movimientos sociales\, derechos humanos y medio ambiente. \nEl ICA\, que se realiza desde 1875\, constituye uno de los principales espacios de encuentro académico a nivel internacional\, promoviendo el diálogo interdisciplinario y la construcción colectiva de conocimiento sobre la región. \nLa convocatoria está dirigida a investigadores e investigadoras\, docentes\, estudiantes y profesionales interesados en debatir sobre los desafíos contemporáneos de América Latina y el Caribe en relación con sus procesos históricos y transformaciones actuales. \n📌 Más información y envío de propuestas:https://congresoica.org/home/simposios-y-ponencias-individuales/ \nPrimera circular \n  \n\n\nprimera-circular-ES
URL:https://www.clacso.org/actividad/convocatoria-abierta-59o-congreso-internacional-de-americanistas-ica-2027/2027-01-31/
CATEGORIES:Convocatoria,Derechos, violencias e igualdad de género,Dirección de Investigación,Grupos de Trabajo,Grupos de Trabajo 2026-2028,Plataformas para el Diálogo Social (PDS)
ATTACH;FMTTYPE=image/jpeg:https://www.clacso.org/wp-content/uploads/2026/03/Captura-2026-04-17T122011.143.jpg
END:VEVENT
END:VCALENDAR