BEGIN:VCALENDAR
VERSION:2.0
PRODID:-//CLACSO - ECPv6.15.20//NONSGML v1.0//EN
CALSCALE:GREGORIAN
METHOD:PUBLISH
X-WR-CALNAME:CLACSO
X-ORIGINAL-URL:https://www.clacso.org
X-WR-CALDESC:Eventos para CLACSO
REFRESH-INTERVAL;VALUE=DURATION:PT1H
X-Robots-Tag:noindex
X-PUBLISHED-TTL:PT1H
BEGIN:VTIMEZONE
TZID:UTC
BEGIN:STANDARD
TZOFFSETFROM:+0000
TZOFFSETTO:+0000
TZNAME:UTC
DTSTART:20250101T000000
END:STANDARD
END:VTIMEZONE
BEGIN:VEVENT
DTSTART;TZID=UTC:20260309T080000
DTEND;TZID=UTC:20260309T170000
DTSTAMP:20260421T092026
CREATED:20260309T203333Z
LAST-MODIFIED:20260309T204355Z
UID:10000362-1773043200-1773075600@www.clacso.org
SUMMARY:Pensamiento Crítico Latinoamericano Siglo XIX: la voluntad por revelar el ser americano
DESCRIPTION:El seminario se desarrolla a lo largo de cuatro sesiones consecutivas\, con una duración de tres horas académicas cada una. En este primer encuentro\, el participante aborda la definición y caracterización del pensamiento crítico latinoamericano\, analizando las corrientes y debates primordiales que estructuran la disciplina. La actividad profundiza en las reflexiones iniciales sobre la conquista y la colonización\, tomando como eje la figura de Bartolomé de las Casas y las diversas manifestaciones de resistencia anticolonial. \n\n\n\nA través del estudio del pensamiento de la emancipación\, el estudiante identifica las raíces de la crítica social en la región\, procesando estos contenidos para generar aportes teóricos que enriquezcan y den solidez a su propio trabajo de investigación. \n\n\n\nSerá con periodicidad semanalSerá dictado por la Profesora Alba Carosio
URL:https://www.clacso.org/actividad/pensamiento-critico-latinoamericano-siglo-xix-la-voluntad-por-revelar-el-ser-americano-2/
CATEGORIES:Centros asociados,Centros Miembros CLACSO
END:VEVENT
BEGIN:VEVENT
DTSTART;TZID=UTC:20260309T080000
DTEND;TZID=UTC:20260309T233000
DTSTAMP:20260421T092026
CREATED:20260309T205327Z
LAST-MODIFIED:20260309T231715Z
UID:10000363-1773043200-1773099000@www.clacso.org
SUMMARY:Humanidades y artes en América Latina. una perspectiva filosófica\, epistémica y política
DESCRIPTION:La actividades forma parte de la oferta del postgrado en Estudios Nuestroamericanos\, el cual forma parte del ciclo formativo de la asignatura PENSAMIENTO CRÍTICO NUESTROAMERICANO del postgrado y como ASIGNATURA OPTATIVA para los estudiantes avanzados. Este seminario libre será dictado por el profesor Gregorio Valera los días viernes de 4:00 a 5:30 pm.\, iniciando actividades el viernes 6 de marzo\, compuesto por cuatro (4) sesiones los días viernes de manera consecutiva. \n\n\n\nCompartimos el link de inscripción: \n\n\n\nhttps://docs.google.com/forms/d/e/1FAIpQLSeJIN0krF45wStv3G7NKedm8_1FbWnrqSVQvnITVbp5a344xw/viewform?usp=dialog
URL:https://www.clacso.org/actividad/humanidades-y-artes-en-america-latina-una-perspectiva-filosofica-epistemica-y-politica/
CATEGORIES:Centros asociados,Centros Miembros CLACSO
END:VEVENT
END:VCALENDAR