BEGIN:VCALENDAR
VERSION:2.0
PRODID:-//CLACSO - ECPv6.15.20//NONSGML v1.0//EN
CALSCALE:GREGORIAN
METHOD:PUBLISH
X-ORIGINAL-URL:https://www.clacso.org
X-WR-CALDESC:Eventos para CLACSO
REFRESH-INTERVAL;VALUE=DURATION:PT1H
X-Robots-Tag:noindex
X-PUBLISHED-TTL:PT1H
BEGIN:VTIMEZONE
TZID:America/Argentina/Buenos_Aires
BEGIN:STANDARD
TZOFFSETFROM:-0300
TZOFFSETTO:-0300
TZNAME:-03
DTSTART:20250101T000000
END:STANDARD
END:VTIMEZONE
BEGIN:VTIMEZONE
TZID:America/Caracas
BEGIN:STANDARD
TZOFFSETFROM:-0400
TZOFFSETTO:-0400
TZNAME:-04
DTSTART:20250101T000000
END:STANDARD
END:VTIMEZONE
BEGIN:VEVENT
DTSTART;TZID=America/Argentina/Buenos_Aires:20260320T100000
DTEND;TZID=America/Argentina/Buenos_Aires:20260501T170000
DTSTAMP:20260421T073722
CREATED:20260319T112928Z
LAST-MODIFIED:20260319T112932Z
UID:10000396-1774000800-1777654800@www.clacso.org
SUMMARY:La Violencia Económico-Militar en el Espacio | Exposición
DESCRIPTION:Exposición visual y documental que investiga la alianza entre grupos empresariales y fuerzas militares en América Latina. A través de un mapa transfronterizo\, esta obra visibiliza la explotación de los trabajadores y la naturaleza\, mostrando cómo territorios de vida fueron transformados en escenarios de represión.  \nCuraduría: Carlos Salamanca Villamisar\, Guadalupe Marín Burgín y Federico Geller. \nLugar: Centro Cultural Universitario Paco Urondo (CCUPU)
URL:https://www.clacso.org/actividad/la-violencia-economico-militar-en-el-espacio-exposicion/
LOCATION:Centro Cultural Universitario Paco Urondo\, 25 de mayo 217\, Buenos Aires\, Argentina
CATEGORIES:Centros asociados,Centros Miembros CLACSO,Secretaría de Investigación - SIFyL/UBA [AR-037]
END:VEVENT
BEGIN:VEVENT
DTSTART;TZID=America/Caracas:20260430T000000
DTEND;TZID=America/Caracas:20260430T235959
DTSTAMP:20260421T073722
CREATED:20260416T145052Z
LAST-MODIFIED:20260416T145102Z
UID:10000503-1777507200-1777593599@www.clacso.org
SUMMARY:Relatos de un ENERO- Convocatoria global de carteles
DESCRIPTION:¡Atención! Se extiende el plazo de participación hasta el 30 de abril de 2026\, para que más creadores del mundo puedan sumarse a esta memoria visual colectiva. \n¿Quiénes pueden participar?\nCreadores de cualquier nacionalidad y residencia\, con una obra original e inédita que refleje su postura visual en relación con la agresión militar contra Venezuela y el secuestro de su presidente Nicolás Maduro y la diputada y primera dama Cilia Flores\, hechos acaecidos el 3 de enero de este año. \nEsta iniciativa busca dejar un testimonio simbólico de la agresión militar imperial ocurrida el 3 de enero de 2026 en Venezuela\, trasladando estos acontecimientos de la categoría de noticia a la de archivo visual internacional. \nPara mayor información:\nconvocatoriacartelcelarg@gmail.com \n#RelatosDeUnEnero #CelargArte #Venezuela #ChávezPorAhoraYSiempre
URL:https://www.clacso.org/actividad/relatos-de-un-enero-convocatoria-global-de-carteles/
CATEGORIES:Centros asociados,Centros Miembros CLACSO,Convocatoria
ATTACH;FMTTYPE=image/jpeg:https://www.clacso.org/wp-content/uploads/2026/04/Convocatoria-concurso-Relatos-de-un-Enero.jpeg
END:VEVENT
END:VCALENDAR