BEGIN:VCALENDAR
VERSION:2.0
PRODID:-//CLACSO - ECPv6.15.20//NONSGML v1.0//EN
CALSCALE:GREGORIAN
METHOD:PUBLISH
X-WR-CALNAME:CLACSO
X-ORIGINAL-URL:https://www.clacso.org
X-WR-CALDESC:Eventos para CLACSO
REFRESH-INTERVAL;VALUE=DURATION:PT1H
X-Robots-Tag:noindex
X-PUBLISHED-TTL:PT1H
BEGIN:VTIMEZONE
TZID:America/Caracas
BEGIN:STANDARD
TZOFFSETFROM:-0400
TZOFFSETTO:-0400
TZNAME:-04
DTSTART:20250101T000000
END:STANDARD
END:VTIMEZONE
BEGIN:VTIMEZONE
TZID:UTC
BEGIN:STANDARD
TZOFFSETFROM:+0000
TZOFFSETTO:+0000
TZNAME:UTC
DTSTART:20250101T000000
END:STANDARD
END:VTIMEZONE
BEGIN:VEVENT
DTSTART;TZID=America/Caracas:20260224T160000
DTEND;TZID=America/Caracas:20260224T180000
DTSTAMP:20260421T175515
CREATED:20260223T204439Z
LAST-MODIFIED:20260223T224521Z
UID:10000095-1771948800-1771956000@www.clacso.org
SUMMARY:Los cuerpos como territorios de emancipación. Cátedra Libre Flora Tristán
DESCRIPTION:Como todos los meses\, la Cátedra Libre Flora Tristán convoca a un conversatorio que encuentra a los feminismos de nuestra región. En esta oportunidad\, nos encontraremos para contribuir con el pensamiento y conocimiento sobre el cuerpo como campo de acción\, relación y realización. \nEl cuerpo y las corporalidades están en el centro del proyecto hegemónico colonial y por supuesto\, en la resistencia contrahegemónica expresada en cualquier gesto y movimiento que denote potencia de emancipación. Situando su dimensión política\, son territorios en disputa. Situados en nuestramérica\, se asume una perspectiva que interpela la idea de cuerpo occidentalocéntrica con la intención de aportar a una dimensión política de las corporalidades\, no como una unidad o “esencia unitaria” sino por el tipo de relaciones que lo componen\, es decir por las dinámicas de las relaciones corpóreas y extra-corpóreas que lo constituyen. \nGÉNEROS E IDENTIDADES es un grupo de estudio e investigación\, en el Celarg\, de aquellas prácticas escénicas\, artísticas y culturales nuestramericanas enunciadas desde la diversidad de identidades étnicas y culturales\, y la diversidad de las identidades de género\, y la multiplicidad de sus derivaciones.  \nPONENTES:\nIsaloren Quintero. Investigadora feminista\nOswaldo Marchionda. Investigador y docente\, Celarg y Unearte \nMODERADORA:\nAlba Carosio \nHora: 24 feb 2026 04:00 p. m. Caracas\nÚnase a la reunión de Zoom\nhttps://us06web.zoom.us/j/89747420502?pwd=Qu1fDoVHNHLlbnrXXkR5m2KcCf5HO4.1 \nID de reunión: 897 4742 0502\nCódigo de acceso: 24022026 \n–
URL:https://www.clacso.org/actividad/los-cuerpos-como-territorios-de-emancipacion-catedra-libre-flora-tristan/
LOCATION:Sede Celarg\, Av Luis Roche\, Altamira.\, Caracas\, Estado Bolivariano de Miranda\, 1060\, Venezuela
CATEGORIES:Centros asociados,Centros Miembros CLACSO
ATTACH;FMTTYPE=image/jpeg:https://www.clacso.org/wp-content/uploads/2026/02/FLORA-TRISTAN-24-FEB-2_compressed_page-0001.jpg
END:VEVENT
BEGIN:VEVENT
DTSTART;TZID=UTC:20260227T080000
DTEND;TZID=UTC:20260327T170000
DTSTAMP:20260421T175515
CREATED:20260303T143111Z
LAST-MODIFIED:20260303T143113Z
UID:10000106-1772179200-1774630800@www.clacso.org
SUMMARY:Diplomado Opciones Sustentables y Solidarias de Gestión Integral de Residuos Sólidos Urbanos.
DESCRIPTION:El objetivo del diplomado es difundir los conceptos\, aspectos y componentes que integran las diversas formas de gestión de residuos sólidos urbanos\, a través de un abordaje transdisciplinario y multinivel que comprenda sus dimensiones sociales\, económicas y técnicas\, con la finalidad de propiciar la reflexión sobre su aplicabilidad en función de las condiciones diversas de la realidad mexicana.\nDirigido a autoridades\, funcionarios públicos y privados\, profesionales\, técnicos\, estudiantes y todas aquellas personas que requieran actualizar o profundizar sus conocimientos\, capacidades y habilidades en la Gestión Integral de Residuos Sólidos.
URL:https://www.clacso.org/actividad/diplomado-opciones-sustentables-y-solidarias-de-gestion-integral-de-residuos-solidos-urbanos/
CATEGORIES:Centro de Investigaciones y Estudios Superiores en Antropología Social - CIESAS [MX-012],Centros asociados,Centros Miembros CLACSO
ATTACH;FMTTYPE=image/jpeg:https://www.clacso.org/wp-content/uploads/2026/02/Cartel-diplo-residuos.jpeg
END:VEVENT
END:VCALENDAR