BEGIN:VCALENDAR
VERSION:2.0
PRODID:-//CLACSO - ECPv6.15.20//NONSGML v1.0//EN
CALSCALE:GREGORIAN
METHOD:PUBLISH
X-ORIGINAL-URL:https://www.clacso.org
X-WR-CALDESC:Eventos para CLACSO
REFRESH-INTERVAL;VALUE=DURATION:PT1H
X-Robots-Tag:noindex
X-PUBLISHED-TTL:PT1H
BEGIN:VTIMEZONE
TZID:UTC
BEGIN:STANDARD
TZOFFSETFROM:+0000
TZOFFSETTO:+0000
TZNAME:UTC
DTSTART:20250101T000000
END:STANDARD
END:VTIMEZONE
BEGIN:VTIMEZONE
TZID:America/Mexico_City
BEGIN:STANDARD
TZOFFSETFROM:-0600
TZOFFSETTO:-0600
TZNAME:CST
DTSTART:20250101T000000
END:STANDARD
END:VTIMEZONE
BEGIN:VEVENT
DTSTART;TZID=UTC:20260427T080000
DTEND;TZID=UTC:20260427T170000
DTSTAMP:20260425T074657
CREATED:20260424T211727Z
LAST-MODIFIED:20260424T211731Z
UID:10000554-1777276800-1777309200@www.clacso.org
SUMMARY:Seminario Internacional. Marx: crisis multidimensional\, imperialismo\, movilidad humana y justicia ambiental en el capitalismo tardío
DESCRIPTION: 🗓 Lunes 27 de abril de 2026⏰ 09:00 a.m. (hora México Centro)💻 Modalidad: virtual (Zoom) \n\n\n\nSeminario internacional «Marx: crisis multidimensional\, imperialismo\, movilidad humana y justicia ambiental en el capitalismo tardío». \n\n\n\nSegundo encuentro: Marxismo y Ecología \n\n\n\nLa Universidad Autónoma de Zacatecas invita a participar del Seminario Internacional “Marx: crisis multidimensional\, imperialismo\, movilidad humana y justicia ambiental en el capitalismo tardío”\, un espacio de reflexión crítica sobre las dinámicas contemporáneas del capitalismo y sus múltiples impactos sociales\, económicos y ambientales. \n\n\n\nLa segunda sesión abordará el eje “Marxismo y ecología”\, y estará a cargo de Michael Löwy. \n\n\n\nEl seminario propone generar un espacio de análisis e intercambio académico en torno a problemáticas clave como el imperialismo\, la movilidad humana y la justicia ambiental\, en el contexto de las transformaciones del capitalismo contemporáneo.Inscripción: https://forms.gle/vhtxKaujZgQGDZrb7Informes: difusion.uaed@gmail.com
URL:https://www.clacso.org/actividad/seminario-internacional-marx-crisis-multidimensional-imperialismo-movilidad-humana-y-justicia-ambiental-en-el-capitalismo-tardio-3/
CATEGORIES:Diversos Grupos de Trabajo,Grupo de Trabajo Historia y coyuntura: perspectivas marxistas,Grupos de Trabajo,Grupos de Trabajo 2023-2025
ATTACH;FMTTYPE=image/png:https://www.clacso.org/wp-content/uploads/2026/02/Captura-de-pantalla-2026-04-24-a-las-18.14.03.png
END:VEVENT
BEGIN:VEVENT
DTSTART;TZID=America/Mexico_City:20260430T000000
DTEND;TZID=America/Mexico_City:20260430T235959
DTSTAMP:20260425T074657
CREATED:20260319T224700Z
LAST-MODIFIED:20260414T181758Z
UID:10000499-1777507200-1777593599@www.clacso.org
SUMMARY:Convocatoria | Doctoral Summer School “Contested Democracies at the Crossroads”
DESCRIPTION:📅 Hasta el 30 de abril de 2026📍 Lugar: Estocolmo\, Suecia \n\nSe encuentra abierta la convocatoria para la Escuela de Verano Doctoral “Contested Democracies at the Crossroads: Structures\, Actors\, Challenges”\, que se realizará en la Södertörn University (Estocolmo\, Suecia). \nLa iniciativa está dirigida a estudiantes de doctorado interesados/as en analizar las transformaciones contemporáneas de la democracia\, los procesos de autocratización y las dinámicas de acción política en distintos contextos globales. \nEntre los ejes temáticos se destacan: democracia y sus tensiones actuales\, cambios en estructuras y discursos\, contramovimientos iliberales\, vulnerabilidad y resiliencia de la sociedad civil\, y fragmentación del espacio público. \n🔗 Más información e inscripciones: https://www.sh.se/cbeessummerschool2026
URL:https://www.clacso.org/actividad/convocatoria-doctoral-summer-school-contested-democracies-at-the-crossroads/
CATEGORIES:Derechos, violencias e igualdad de género,Dirección de Investigación,Grupo de Trabajo Cuidados y género,Grupos de Trabajo,Grupos de Trabajo 2023-2025,Plataformas para el Diálogo Social (PDS)
END:VEVENT
END:VCALENDAR