BEGIN:VCALENDAR
VERSION:2.0
PRODID:-//CLACSO - ECPv6.15.20//NONSGML v1.0//EN
CALSCALE:GREGORIAN
METHOD:PUBLISH
X-WR-CALNAME:CLACSO
X-ORIGINAL-URL:https://www.clacso.org
X-WR-CALDESC:Eventos para CLACSO
REFRESH-INTERVAL;VALUE=DURATION:PT1H
X-Robots-Tag:noindex
X-PUBLISHED-TTL:PT1H
BEGIN:VTIMEZONE
TZID:America/Argentina/Buenos_Aires
BEGIN:STANDARD
TZOFFSETFROM:-0300
TZOFFSETTO:-0300
TZNAME:-03
DTSTART:20250101T000000
END:STANDARD
END:VTIMEZONE
BEGIN:VTIMEZONE
TZID:UTC
BEGIN:STANDARD
TZOFFSETFROM:+0000
TZOFFSETTO:+0000
TZNAME:UTC
DTSTART:20250101T000000
END:STANDARD
END:VTIMEZONE
BEGIN:VEVENT
DTSTART;TZID=America/Argentina/Buenos_Aires:20260416T080000
DTEND;TZID=America/Argentina/Buenos_Aires:20260416T170000
DTSTAMP:20260425T121322
CREATED:20260416T185044Z
LAST-MODIFIED:20260416T192351Z
UID:10000512-1776326400-1776358800@www.clacso.org
SUMMARY:Convocatoria para el I Congreso sobre Racismo y Desigualdades Estructurales
DESCRIPTION:Hasta el 4 de mayo | Modalidad virtual El Núcleo de Estudios sobre Racismo y Desigualdades de la Universidad Metropolitana para la Educación y el Trabajo abre la convocatoria para este primer congreso que se realizará los días 4 y 5 de junio de 2026. El evento busca recibir propuestas que aborden las temáticas afrodescendientes\, el racismo\, las políticas públicas y la racialización en clave histórica desde distintas disciplinas. Se reciben ponencias de investigación\, comunicaciones de experiencias de activismo y propuestas artísticas o audiovisuales. \n\n\n\nParticipan Investigadores/as y académicos/as Activistas y referentes de organizaciones sociales Artistas y realizadores audiovisuales vinculados a la temática \n\n\n\nOrganiza Núcleo de Estudios sobre Racismo y Desigualdades (UMET) Diáspora Africana de la Argentina (DIAFAR). Participa el Grupo de Trabajo CLACSO Antirracismo y afrodescendencia en el Sur Global📩Contactoddhh@diafar.org🔗 Más información: https://umet.edu.ar/i-congreso-sobre-racismo-y-desigualdades-estructurales/
URL:https://www.clacso.org/actividad/convocatoria-para-el-i-congreso-sobre-racismo-y-desigualdades-estructurales/2026-04-16/
CATEGORIES:Desigualdades y pobreza en América Latina y el Caribe,Grupos de Trabajo,Grupos de Trabajo 2026.2028,Plataformas para el Diálogo Social (PDS)
ATTACH;FMTTYPE=image/png:https://www.clacso.org/wp-content/uploads/2026/04/2026-04-16-15_46_44-I-Congreso-sobre-Racismo-y-Desigualdades-en-UMET-2026.png
END:VEVENT
BEGIN:VEVENT
DTSTART;TZID=UTC:20260416T100000
DTEND;TZID=UTC:20260416T120000
DTSTAMP:20260425T121322
CREATED:20260218T182901Z
LAST-MODIFIED:20260218T183248Z
UID:10000068-1776333600-1776340800@www.clacso.org
SUMMARY:Seminario Permanente Interinstitucional: Juventudes y movimientos estudiantiles: pasado\, presente y futuro
DESCRIPTION:📅 Primer semestre 2026💻 Modalidad: Virtual🎓 Actividad académica con constancia de participación \nSe encuentra abierta la inscripción al Seminario Permanente Interinstitucional “Juventudes y movimientos estudiantiles: pasado\, presente y futuro”\, un espacio académico de intercambio y reflexión dirigido a estudiantes\, investigadoras/es y docentes interesados en el estudio de los activismos juveniles y estudiantiles en América Latina y el Caribe. \nEl seminario se desarrolla a través de sesiones mensuales que combinan encuentros internos de discusión de avances de tesis y trabajos inéditos\, junto con sesiones públicas abiertas que incluyen presentaciones de libros\, conferencias y conversatorios. \nLa iniciativa es organizada por un amplio conjunto de instituciones y redes académicas de alcance regional e internacional\, entre ellas el Centro de Investigación y Docencia Económicas (CIDE)\, la Unión de Universidades de América Latina y el Caribe (UDUALC)\, CLACSO\, la Universidad Nacional Autónoma de México (UNAM) y la Universidad de Buenos Aires\, entre otras. \nLas personas inscriptas podrán obtener constancia de participación\, fortaleciendo su trayectoria académica y su vinculación con una comunidad de investigación activa y colaborativa. \n🔗 Inscripción: https://forms.gle/KPkbn7q7Jvge19Rf6📩 Consultas: juventudesymovestudiantiles@gmail.com \n\nCronograma – Primer semestre 2026\n\nSesión interna: jueves 19 de febrero\nSesión pública inaugural: jueves 19 de marzo\nSesión interna: jueves 16 de abril\nSesión pública: jueves 28 de mayo\nSesión pública: jueves 18 de junio\n\n🕒 Horarios: 16 hs (CDMX–Guatemala) / 19 hs (Argentina–Chile–Uruguay–Brasil)\, excepto el 18 de junio: 12 hs (CDMX–Guatemala) / 15 hs (Argentina–Chile–Uruguay–Brasil). \nParticipan Diversos Grupos de Trabajo CLACSO \n\n 
URL:https://www.clacso.org/actividad/seminario-permanente-interinstitucional-juventudes-y-movimientos-estudiantiles-pasado-presente-y-futuro/2026-04-16/
CATEGORIES:Dirección de Investigación,Diversos Grupos de Trabajo,Grupo de Trabajo Infancias y juventudes,Grupos de Trabajo,Grupos de Trabajo 2023-2025,Seminario
ATTACH;FMTTYPE=image/png:https://www.clacso.org/wp-content/uploads/2026/02/FIRMA-Seminario-Permanente-Interinstitucional-Juventudes-Movimientos-3-2-1.png
END:VEVENT
BEGIN:VEVENT
DTSTART;TZID=UTC:20260416T160000
DTEND;TZID=UTC:20260416T180000
DTSTAMP:20260425T121322
CREATED:20260305T204222Z
LAST-MODIFIED:20260331T205304Z
UID:10000433-1776355200-1776362400@www.clacso.org
SUMMARY:Seminario Internacional “Marx: crisis multidimensional\, imperialismo\, movilidad humana y justicia ambiental en el capitalismo tardío”
DESCRIPTION:📅 Jueves 16 de abril de 2026💻 Modalidad virtual🕓 16:00 hs (Argentina) \n\n\n\nLa Universidad Autónoma de Zacatecas invita a participar del Seminario Internacional “Marx: crisis multidimensional\, imperialismo\, movilidad humana y justicia ambiental en el capitalismo tardío”\, un espacio de reflexión crítica sobre las dinámicas contemporáneas del capitalismo y sus múltiples impactos sociales\, económicos y ambientales. \n\n\n\nLa sesión inaugural abordará el eje “Crisis crónica del capitalismo y devastación imperialista: las migraciones internacionales y su conexión estructural con la competencia capitalista”\, y estará a cargo de Cecilia Escobar y Xabier Arrizabalo\, integrantes del Grupo de Investigación en Economía Política de la Universidad Complutense de Madrid. \n\n\n\nEl seminario propone generar un espacio de análisis e intercambio académico en torno a problemáticas clave como el imperialismo\, la movilidad humana y la justicia ambiental\, en el contexto de las transformaciones del capitalismo contemporáneo. \n\n\n\n📌 Inscripción: https://forms.gle/vhtxKaujZgQGDZrb7📩 Informes: difusion.uaed@gmail.com
URL:https://www.clacso.org/actividad/seminario-internacional-marx-crisis-multidimensional-imperialismo-movilidad-humana-y-justicia-ambiental-en-el-capitalismo-tardio/
CATEGORIES:Diversos Grupos de Trabajo,Grupos de Trabajo,Grupos de Trabajo 2023-2025
END:VEVENT
END:VCALENDAR