BEGIN:VCALENDAR
VERSION:2.0
PRODID:-//CLACSO - ECPv6.15.20//NONSGML v1.0//EN
CALSCALE:GREGORIAN
METHOD:PUBLISH
X-ORIGINAL-URL:https://www.clacso.org
X-WR-CALDESC:Eventos para CLACSO
REFRESH-INTERVAL;VALUE=DURATION:PT1H
X-Robots-Tag:noindex
X-PUBLISHED-TTL:PT1H
BEGIN:VTIMEZONE
TZID:UTC
BEGIN:STANDARD
TZOFFSETFROM:+0000
TZOFFSETTO:+0000
TZNAME:UTC
DTSTART:20250101T000000
END:STANDARD
END:VTIMEZONE
BEGIN:VEVENT
DTSTART;VALUE=DATE:20260212
DTEND;VALUE=DATE:20260213
DTSTAMP:20260426T005356
CREATED:20260207T222710Z
LAST-MODIFIED:20260207T222946Z
UID:10000014-1770854400-1770940799@www.clacso.org
SUMMARY:Convocatoria a postulaciones para estudiantes de posgrado. Brasil
DESCRIPTION:14 de agosto al 29 de septiembre \n Programa de Colaboración para Estudiantes de Posgrado ( PEC-PG ). Convocatoria para extranjeros para cursar programas de posgrado en Brasil. \nLa lista de vacantes ofrecidas según la Convocatoria n.º 12/2025 \, en el marco del  Programa\, está disponible en el sitio web de CAPES/MEC . Esta iniciativa\, fruto de una colaboración entre la Oficina de Coordinación\, el Ministerio de Relaciones Exteriores (MRE) y el Consejo Nacional de Desarrollo Científico y Tecnológico (CNPq)\, ofrece oportunidades para que extranjeros cursen\, parcial o totalmente\, una maestría o un doctorado en Brasil.  \nEl plazo de solicitud para los interesados en programas de maestría y doctorado se abre el jueves 14 de agosto y se extiende hasta el 29 de septiembre. \n Las solicitudes deben presentarse a través del Sistema de Registro CAPES/MEC ( Sicapes ). El proceso de selección está abierto a extranjeros que sean nacionales de los países participantes y residan allí\, pero que no tengan nacionalidad brasileña\, doble nacionalidad brasileña ni tengan derecho a la nacionalidad brasileña. \nHabrá otro período de solicitud\, del 1 de octubre al 30 de diciembre\, para estudiantes de posgrado que deseen cursar programas de doctorado combinado. \nLas consultas sobre el proceso de selección pueden enviarse a inscricao.pecpg@capes.gov.br . \nMas información  https://www.gov.br/capes/pt-br/assuntos/noticias/sai-lista-de-indicacao-de-vagas-em-selecao-para-estrangeiros
URL:https://www.clacso.org/actividad/convocatoria-a-postulaciones-para-estudiantes-de-posgrado-brasil/
CATEGORIES:Derecho a la educación, políticas públicas y alternativas pedagógicas (Educación Superior),Dirección de Investigación,Grupo de Trabajo Políticas educativas y derecho a la educación,Grupos de Trabajo,Grupos de Trabajo 2023-2025,Plataformas para el Diálogo Social (PDS)
END:VEVENT
BEGIN:VEVENT
DTSTART;TZID=UTC:20260212T120000
DTEND;TZID=UTC:20260212T140000
DTSTAMP:20260426T005356
CREATED:20260207T223154Z
LAST-MODIFIED:20260213T202053Z
UID:10000015-1770897600-1770904800@www.clacso.org
SUMMARY:Diálogo internacional urgente. El corolario Trump a la Doctrina Monroe: una aproximación global
DESCRIPTION:Jueves 12 de febrero12:00 hs (ARG–BRA) | 15:00 hs (RU) | 16:00 hs (ALE/ESP/ITA) | 17:00 hs (FIN)\n\nCLACSO invita al Diálogo internacional urgente El corolario Trump a la Doctrina Monroe: una aproximación global.\n\nEl reciente bombardeo y la intervención directa en Venezuela marcan un punto de quiebre en la política de EE.UU. hacia la región. ¿Estamos ante el fin de la agenda de la democracia liberal y el inicio de una nueva fase imperial abierta?\n\nConvocamos a un panel de destacados intelectuales de Europa para analizar\, desde una perspectiva global\, cómo esta nueva estrategia impacta en América Latina\, el Caribe y el mundo entero.\n\nLa actividad contará con la presentación de Pablo Vommaro\, Director Ejecutivo de CLACSO\, y será moderada y comentada por Esteban Torres (Universidad Nacional de Córdoba – CONICET\, Argentina).\nExponen \n\n\n 	Göran Therborn (Universidad de Cambridge\, Reino Unido)\n 	Manuela Boatcă (Universidad de Friburgo\, Alemania)\n 	Marga Ferré (Transform! Europe\, España)\n 	Sandro Mezzadra (Universidad de Bolonia\, Italia)\n 	Teivo Teivainen (Universidad de Helsinki\, Finlandia)\n\nOrganiza: Consejo Latinoamericano de Ciencias Sociales (CLACSO)Invita: Transform! Europe\n\n📡 Transmisión en vivo por las redes sociales de CLACSO.📝 Evento con inscripción previa a través del formulario adjunto.\n\nCargando…
URL:https://www.clacso.org/actividad/dialogo-internacional-urgente-el-corolario-trump-a-la-doctrina-monroe-una-aproximacion-global/
CATEGORIES:Conversatorio virtual,Dirección de Investigación,Diversos Grupos de Trabajo,Grupos de Trabajo,Grupos de Trabajo 2023-2025,Pablo Vommaro,Secretaría Ejecutiva
ATTACH;FMTTYPE=image/jpeg:https://www.clacso.org/wp-content/uploads/2026/02/El-corolario-Trump-web.jpg
END:VEVENT
END:VCALENDAR