BEGIN:VCALENDAR
VERSION:2.0
PRODID:-//CLACSO - ECPv6.15.20//NONSGML v1.0//EN
CALSCALE:GREGORIAN
METHOD:PUBLISH
X-WR-CALNAME:CLACSO
X-ORIGINAL-URL:https://www.clacso.org
X-WR-CALDESC:Eventos para CLACSO
REFRESH-INTERVAL;VALUE=DURATION:PT1H
X-Robots-Tag:noindex
X-PUBLISHED-TTL:PT1H
BEGIN:VTIMEZONE
TZID:UTC
BEGIN:STANDARD
TZOFFSETFROM:+0000
TZOFFSETTO:+0000
TZNAME:UTC
DTSTART:20250101T000000
END:STANDARD
END:VTIMEZONE
BEGIN:VEVENT
DTSTART;VALUE=DATE:20260202
DTEND;VALUE=DATE:20260203
DTSTAMP:20260425T233333
CREATED:20260207T213250Z
LAST-MODIFIED:20260207T214108Z
UID:10000007-1769990400-1770076799@www.clacso.org
SUMMARY:HIAS | Convocatoria de becas 2027–2028
DESCRIPTION:📅 Fecha límite de postulación: 2 de marzo de 2026📝 Postulación: mediante formulario en línea \nEl Hamburg Institute for Advanced Study (HIAS) abre la convocatoria de becas individuales para el año académico 2027–2028\, dirigida a investigadoras e investigadores de todas las disciplinas y trayectorias (desde nivel posdoctoral)\, así como a artistas y profesionales del ámbito cultural\, de cualquier parte del mundo. \nHIAS ofrece 12 becas para estadías de 3 a 10 meses en Hamburgo\, con plena libertad para desarrollar proyectos propios en un entorno interdisciplinario e internacional de excelencia\, que promueve el intercambio académico\, artístico y el diálogo con públicos amplios. \n📌 Requisitos principales:– Doctorado/PhD (para postulantes del ámbito académico)– Excelente dominio del inglés– Trayectoria internacional y propuesta de investigación original \nMás información:\nhttps://hias-hamburg.de/en/\nhttps://hias-hamburg.de/en/fellowship/application/
URL:https://www.clacso.org/actividad/hias-convocatoria-de-becas-2027-2028/
CATEGORIES:Convocatoria,Dirección de Investigación,Diversos Grupos de Trabajo,Grupo de Trabajo Prácticas emancipatorias y metodologías descolonizadoras transformadoras,Grupos de Trabajo,Grupos de Trabajo 2023-2025
ATTACH;FMTTYPE=image/jpeg:https://www.clacso.org/wp-content/uploads/2026/02/hias_hamburg_information-1440x500-1.jpg
END:VEVENT
END:VCALENDAR