BEGIN:VCALENDAR
VERSION:2.0
PRODID:-//CLACSO - ECPv6.15.20//NONSGML v1.0//EN
CALSCALE:GREGORIAN
METHOD:PUBLISH
X-WR-CALNAME:CLACSO
X-ORIGINAL-URL:https://www.clacso.org
X-WR-CALDESC:Eventos para CLACSO
REFRESH-INTERVAL;VALUE=DURATION:PT1H
X-Robots-Tag:noindex
X-PUBLISHED-TTL:PT1H
BEGIN:VTIMEZONE
TZID:UTC
BEGIN:STANDARD
TZOFFSETFROM:+0000
TZOFFSETTO:+0000
TZNAME:UTC
DTSTART:20250101T000000
END:STANDARD
END:VTIMEZONE
BEGIN:VEVENT
DTSTART;VALUE=DATE:20260128
DTEND;VALUE=DATE:20260131
DTSTAMP:20260425T233428
CREATED:20260208T214212Z
LAST-MODIFIED:20260208T214311Z
UID:10000048-1769558400-1769817599@www.clacso.org
SUMMARY:V Congreso Internacional de Educación: Educaciones Populares
DESCRIPTION:Fecha: 28\, 29 y 30 de enero de 2026Modalidad: PresencialLugar: Teatro Juárez\, Oaxaca\, México \nBajo el lema “Tejiendo comunidades para una pedagogía liberadora de Nuestramérica”\, se realizará el V Congreso Internacional de Educación: Educaciones Populares\, un espacio de encuentro entre educadoras y educadores populares\, movimientos sociales\, comunidades y experiencias pedagógicas de América Latina y otras regiones del mundo. \nDurante tres días\, Oaxaca será territorio de diálogo\, reflexión y construcción colectiva en torno a una educación comprometida con la justicia social\, la emancipación y la dignidad de los pueblos. El congreso propone pensar y sentir la educación desde las prácticas\, los saberes comunitarios y las luchas sociales\, fortaleciendo redes pedagógicas críticas y populares. \nEl evento contará con la participación de reconocidas y reconocidos referentes internacionales de la educación popular\, entre ellos Pablo Vommaro\, Dora Barrancos\, Lola Cendales\, Marco Raúl Mejía\, Peter McLaren\, Gabriela Rivadeneira\, Fernando Santana\, Williana Angelo\, Graciela Messina\, Valeria Vasconcelos\, entre muchas y muchos otros educadores e intelectuales comprometidos con los procesos emancipatorios de la región. \nEl evento contará con la participación de Pablo Vommaro\, director ejecutivo de CLACSO\, así como de integrantes del Grupo de Trabajo CLACSO Educación Popular y Pedagogías Críticas. \n📩 Informes e inscripción: 5congresooaxaca@gmail.com📞 Teléfono: +52 951 357 59 00 \n 
URL:https://www.clacso.org/actividad/v-congreso-internacional-de-educacion-educaciones-populares/
CATEGORIES:Congreso,Derecho a la educación, políticas públicas y alternativas pedagógicas (Educación Superior),Dirección de Investigación,Diversos Grupos de Trabajo,Grupo de Trabajo Educación popular y pedagogías críticas,Grupo de Trabajo Praxis emancipatorias, bienes comunes y metodologías descoloniales alterglobales,Grupos de Trabajo,Grupos de Trabajo 2023-2025,Pablo Vommaro,Plataformas para el Diálogo Social (PDS),Secretaría Ejecutiva
ATTACH;FMTTYPE=image/jpeg:https://www.clacso.org/wp-content/uploads/2026/02/image0-1-1.jpeg
END:VEVENT
BEGIN:VEVENT
DTSTART;VALUE=DATE:20260130
DTEND;VALUE=DATE:20260131
DTSTAMP:20260425T233428
CREATED:20260208T215735Z
LAST-MODIFIED:20260208T215735Z
UID:10000052-1769731200-1769817599@www.clacso.org
SUMMARY:HIAS | Convocatoria de becas 2027–2028
DESCRIPTION:📅 Fecha límite de postulación: 2 de marzo de 2026📝 Postulación: mediante formulario en línea \nEl Hamburg Institute for Advanced Study (HIAS) abre la convocatoria de becas individuales para el año académico 2027–2028\, dirigida a investigadoras e investigadores de todas las disciplinas y trayectorias (desde nivel posdoctoral)\, así como a artistas y profesionales del ámbito cultural\, de cualquier parte del mundo. \nHIAS ofrece 12 becas para estadías de 3 a 10 meses en Hamburgo\, con plena libertad para desarrollar proyectos propios en un entorno interdisciplinario e internacional de excelencia\, que promueve el intercambio académico\, artístico y el diálogo con públicos amplios. \n📌 Requisitos principales:– Doctorado/PhD (para postulantes del ámbito académico)– Excelente dominio del inglés– Trayectoria internacional y propuesta de investigación original \nMás información:\nhttps://hias-hamburg.de/en/\nhttps://hias-hamburg.de/en/fellowship/application/
URL:https://www.clacso.org/actividad/hias-convocatoria-de-becas-2027-2028-2/
CATEGORIES:Convocatoria,Dirección de Investigación,Diversos Grupos de Trabajo,Grupos de Trabajo,Grupos de Trabajo 2023-2025
ATTACH;FMTTYPE=image/jpeg:https://www.clacso.org/wp-content/uploads/2026/02/hias_hamburg_information-1440x500-1-1.jpg
END:VEVENT
BEGIN:VEVENT
DTSTART;TZID=UTC:20260130T130000
DTEND;TZID=UTC:20260130T150000
DTSTAMP:20260425T233428
CREATED:20260208T220055Z
LAST-MODIFIED:20260208T220055Z
UID:10000053-1769778000-1769785200@www.clacso.org
SUMMARY:Convocatoria al Premio de Tesis Doctoral “Elmar Altvater” 2026
DESCRIPTION:Hasta el 30 de junio de 2026 \nSe encuentra abierta la convocatoria al Premio de Tesis Doctoral “Elmar Altvater” 2026\, un reconocimiento internacional que honra la trayectoria académica y el compromiso político del economista crítico alemán Elmar Altvater (1938–2018)\, referente central de la crítica marxista de la economía política y de los estudios sobre capitalismo\, crisis ecológica y energía \nEl premio tiene como objetivo estimular y reconocer investigaciones doctorales de excelencia que aporten a una crítica teóricamente fundamentada y ecológicamente ampliada de la economía política\, en diálogo con los grandes debates contemporáneos sobre capitalismo global\, crisis socioambiental y alternativas emancipatorias. \n📌 Idioma de las tesisSe aceptan tesis doctorales escritas en español y portugués\, así como en inglés\, alemán e italiano.Las tesis que no estén escritas en inglés deberán incluir un resumen extenso en inglés (entre 3.000 y 6.000 palabras). \n📌 Temáticas orientativasEntre otros ejes\, se considerarán trabajos vinculados a: \n\nLa crisis y desorden del modo de acumulación capitalista global\nLa globalización oligárquica\nEnfoques teóricos para una crítica ecológica de la economía política\nEconomía material de la energía y los recursos naturales\nExtractivismo y sus consecuencias sociales\, económicas y ambientales\nIniciativas de base frente a violaciones de derechos humanos en el Sur Global\nAlternativas políticas de carácter social\, socializante o socialista\n\nSe valorarán especialmente enfoques interdisciplinarios\, que articulen economía política con ciencias sociales\, ciencias naturales\, geografía\, antropología e historia. \n📌 Requisitos y elegibilidadPodrán postularse tesis doctorales aprobadas a partir de 2023.El premio tiene una dotación de 2.000 euros. \n📅 Fecha límite de postulación30 de junio de 2026Las postulaciones deberán enviarse exclusivamente en formato electrónico. \n📎 Documentación requerida \n\nCarta de presentación\nResumen de 500 palabras que vincule la tesis con la obra de Elmar Altvater\nTesis doctoral completa\nResumen extenso en inglés (cuando corresponda)\nCV\nEvaluaciones académicas del proceso de doctorado\n\n🏛 Jurado internacionalEl jurado está integrado por destacadas figuras del campo de la economía política crítica y las ciencias sociales\, provenientes de universidades de América Latina\, Europa\, África\, Asia y Norteamérica. \n📣 Entrega del premioLa ceremonia de premiación está prevista para la Conferencia del Global Labour University\, en diciembre de 2026. \n👉 Se adjunta el documento completo de la convocatoria al Premio de Tesis Doctoral “Elmar Altvater” 2026\, con información detallada sobre requisitos\, temas y procedimiento de postulación. \nElmar-Altvater-Prize-2026-Call-for-Submissions
URL:https://www.clacso.org/actividad/convocatoria-al-premio-de-tesis-doctoral-elmar-altvater-2026-2/
CATEGORIES:Dirección de Investigación,Grupo de Trabajo Lex mercatoria, poder corporativo y derechos humanos,Grupos de Trabajo,Grupos de Trabajo 2023-2025
END:VEVENT
END:VCALENDAR