BEGIN:VCALENDAR
VERSION:2.0
PRODID:-//CLACSO - ECPv6.15.20//NONSGML v1.0//EN
CALSCALE:GREGORIAN
METHOD:PUBLISH
X-WR-CALNAME:CLACSO
X-ORIGINAL-URL:https://www.clacso.org
X-WR-CALDESC:Eventos para CLACSO
REFRESH-INTERVAL;VALUE=DURATION:PT1H
X-Robots-Tag:noindex
X-PUBLISHED-TTL:PT1H
BEGIN:VTIMEZONE
TZID:America/Argentina/Buenos_Aires
BEGIN:STANDARD
TZOFFSETFROM:-0300
TZOFFSETTO:-0300
TZNAME:-03
DTSTART:20250101T000000
END:STANDARD
END:VTIMEZONE
BEGIN:VTIMEZONE
TZID:UTC
BEGIN:STANDARD
TZOFFSETFROM:+0000
TZOFFSETTO:+0000
TZNAME:UTC
DTSTART:20250101T000000
END:STANDARD
END:VTIMEZONE
BEGIN:VEVENT
DTSTART;TZID=America/Argentina/Buenos_Aires:20260320T100000
DTEND;TZID=America/Argentina/Buenos_Aires:20260501T170000
DTSTAMP:20260423T063151
CREATED:20260319T112928Z
LAST-MODIFIED:20260319T112932Z
UID:10000396-1774000800-1777654800@www.clacso.org
SUMMARY:La Violencia Económico-Militar en el Espacio | Exposición
DESCRIPTION:Exposición visual y documental que investiga la alianza entre grupos empresariales y fuerzas militares en América Latina. A través de un mapa transfronterizo\, esta obra visibiliza la explotación de los trabajadores y la naturaleza\, mostrando cómo territorios de vida fueron transformados en escenarios de represión.  \nCuraduría: Carlos Salamanca Villamisar\, Guadalupe Marín Burgín y Federico Geller. \nLugar: Centro Cultural Universitario Paco Urondo (CCUPU)
URL:https://www.clacso.org/actividad/la-violencia-economico-militar-en-el-espacio-exposicion/
LOCATION:Centro Cultural Universitario Paco Urondo\, 25 de mayo 217\, Buenos Aires\, Argentina
CATEGORIES:Centros asociados,Centros Miembros CLACSO,Secretaría de Investigación - SIFyL/UBA [AR-037]
END:VEVENT
BEGIN:VEVENT
DTSTART;TZID=America/Argentina/Buenos_Aires:20260417T080000
DTEND;TZID=America/Argentina/Buenos_Aires:20260529T170000
DTSTAMP:20260423T063151
CREATED:20260422T194255Z
LAST-MODIFIED:20260422T194302Z
UID:10000514-1776412800-1780074000@www.clacso.org
SUMMARY:Nueva Diplomatura de Posgrado en Ciencias Sociales de la Información y Análisis de Datos Abiertos (CI-DATA)
DESCRIPTION:La nueva formación se llevará a cabo en la Facultad de Ciencias Políticas y Sociales\, y buscará brindar una capacitación técnica y analítica para el manejo de grandes volúmenes de información científica y datos abiertos. Está destinada al perfeccionamiento de profesionales de diversas disciplinas. La modalidad será totalmente virtual\, con una carga horaria total de 175hs\, constando de 7 módulos con clases sincrónicas y un trabajo final. Las inscripciones ya se encuentran abiertas mientras que las clases comenzarán en mayo. \nLas Ciencias de la Información constituyen un campo interdisciplinario dedicado al estudio de la información en sus diversas formas\, así como de los objetos\, infraestructuras y prácticas que permiten organizarla\, gestionarla y hacerla circular en entornos analógicos y digitales. En el marco de este campo —consolidado internacionalmente y con fuerte desarrollo académico en Europa y América del Norte— emergen nuevas líneas de investigación y formación vinculadas a las infraestructuras de información científica y al análisis de datos abiertos. En este contexto\, la Diplomatura en Ciencias Sociales de la Información y Análisis de Datos Abiertos (CI-DATA) se propone ofrecer una formación innovadora que articula tradiciones como la bibliometría\, la sociología de la ciencia\, las ciencias de la comunicación y los estudios sociales de la ciencia y la tecnología. Desde una perspectiva propia de las ciencias sociales\, y recogiendo la tradición de estudios de la circulación del conocimiento del CECIC\, la propuesta aborda el estudio crítico de las infraestructuras digitales\, las plataformas y tecnologías de gestión de información científica\, así como las metodologías para analizar grandes volúmenes de datos abiertos\, contribuyendo a formar profesionales capaces de interpretar\, gestionar y producir conocimiento en un contexto marcado por la expansión de la ciencia abierta y la creciente centralidad de los datos en la investigación y en la toma de decisiones públicas y privadas. \nObjetivo General: Implementar una formación en Ciencias Sociales de la Información y Análisis de Datos Abiertos\, destinada al perfeccionamiento de profesionales de diversas disciplinas. \nObjetivos Específicos: Ofrecer conocimientos sobre las fuentes de información científica disponibles a nivel global\, regional y nacional.\nBrindar herramientas de cosecha\, técnicas de análisis y procedimientos de gestión de grandes volúmenes de datos científicos.\nCapacitar para el manejo de infraestructuras digitales y la curaduría de conjuntos de datos abiertos de investigación\nIntegrar competencias técnicas y habilidades analíticas orientadas a la resolución de problemas concretos.\nPromover una comprensión cabal de las normas éticas y legales que supone el manejo de información científica abierta.\nFavorecer una inserción laboral sólida y versátil\, alineada con las transformaciones actuales del mundo del trabajo. \nPropuesta curricular y distribución horaria \nLa estructura curricular está diseñada procurando integrar competencias técnicas (gestión\, análisis e interpretación de datos) con habilidades analíticas\, conocimiento de normas éticas y comprensión del contexto social de la información científica y las infraestructuras digitales abiertas. El plan de estudios está organizado en 7 módulos. Cada uno de ellos tienen su correspondiente discriminación horaria según cursado sincrónico y asincrónico. La acreditación de cada módulo es mediante un trabajo final-ejercicio práctico que será indicado por el equipo docente. Podrán cursarse de manera independiente por personas interesadas que cumplan con los mismos requisitos de admisión a la diplomatura (estudiantes eventuales). \nFormulario de inscripción: https://docs.google.com/forms/d/e/1FAIpQLScBXPo9O5KBQVGjdTX-bd9YINDKQhjdLWmu_zFEY7G2XLyxcQ/viewform?pli=1\nMás información en: https://cecic.fcp.uncuyo.edu.ar/es/2026/03/15/el-consejo-superior-de-la-uncuyo-aprobo-la-diplomatura-de-posgrado-en-ciencias-sociales-de-la-informacion-y-analisis-de-datos-abiertos-ci-data/
URL:https://www.clacso.org/actividad/nueva-diplomatura-de-posgrado-en-ciencias-sociales-de-la-informacion-y-analisis-de-datos-abiertos-ci-data/
CATEGORIES:Centros asociados,Centros Miembros CLACSO
ATTACH;FMTTYPE=image/jpeg:https://www.clacso.org/wp-content/uploads/2026/04/CI-DATA-Flyer-768x1365-1.jpeg
END:VEVENT
BEGIN:VEVENT
DTSTART;TZID=America/Argentina/Buenos_Aires:20260421T120000
DTEND;TZID=America/Argentina/Buenos_Aires:20260504T200000
DTSTAMP:20260423T063151
CREATED:20260414T164942Z
LAST-MODIFIED:20260416T184912Z
UID:10000497-1776772800-1777924800@www.clacso.org
SUMMARY:Feria Internacional del Libro de Bogotá
DESCRIPTION:Del martes 21 de abril al lunes 4 de mayo 2026 \nOrganizan:Cámara Colombiana del Libro – Corferias \nSedeCorferiasBogotá\, Colombia
URL:https://www.clacso.org/actividad/feria-internacional-del-libro-de-bogota/
ATTACH;FMTTYPE=image/jpeg:https://www.clacso.org/wp-content/uploads/2026/04/Filbo-2026.jpg
END:VEVENT
BEGIN:VEVENT
DTSTART;TZID=UTC:20260423T080000
DTEND;TZID=UTC:20260423T170000
DTSTAMP:20260423T063151
CREATED:20260221T150910Z
LAST-MODIFIED:20260422T150534Z
UID:10000554-1776931200-1776963600@www.clacso.org
SUMMARY:Seminario Internacional. Marx: crisis multidimensional\, imperialismo\, movilidad humana y justicia ambiental en el capitalismo tardío
DESCRIPTION: 🗓 Jueves 23 de abril de 2026⏰ 09:00 a.m. (hora México Centro)💻 Modalidad: virtual (Zoom) \n\n\n\nSeminario internacional «Marx: crisis multidimensional\, imperialismo\, movilidad humana y justicia ambiental en el capitalismo tardío». \n\n\n\nSegundo encuentro: Marxismo y Ecología \n\n\n\nLa Universidad Autónoma de Zacatecas invita a participar del Seminario Internacional “Marx: crisis multidimensional\, imperialismo\, movilidad humana y justicia ambiental en el capitalismo tardío”\, un espacio de reflexión crítica sobre las dinámicas contemporáneas del capitalismo y sus múltiples impactos sociales\, económicos y ambientales. \n\n\n\nLa segunda sesión abordará el eje “Marxismo y ecología”\, y estará a cargo de Michael Löwy. \n\n\n\nEl seminario propone generar un espacio de análisis e intercambio académico en torno a problemáticas clave como el imperialismo\, la movilidad humana y la justicia ambiental\, en el contexto de las transformaciones del capitalismo contemporáneo.Inscripción: https://forms.gle/vhtxKaujZgQGDZrb7Informes: difusion.uaed@gmail.com
URL:https://www.clacso.org/actividad/seminario-internacional-marx-crisis-multidimensional-imperialismo-movilidad-humana-y-justicia-ambiental-en-el-capitalismo-tardio-2/2026-04-23/
CATEGORIES:Diversos Grupos de Trabajo,Grupo de Trabajo Historia y coyuntura: perspectivas marxistas,Grupos de Trabajo,Grupos de Trabajo 2023-2025
ATTACH;FMTTYPE=image/jpeg:https://www.clacso.org/wp-content/uploads/2026/02/Seminario-Marxismo.jpg
END:VEVENT
BEGIN:VEVENT
DTSTART;TZID=America/Argentina/Buenos_Aires:20260423T130000
DTEND;TZID=America/Argentina/Buenos_Aires:20260423T150000
DTSTAMP:20260423T063151
CREATED:20260414T160933Z
LAST-MODIFIED:20260414T181602Z
UID:10000496-1776949200-1776956400@www.clacso.org
SUMMARY:Seminario «Variaciones sobre lo común» (IIGG)
DESCRIPTION:El «Grupo de Estudios sobre teorías y prácticas de la libertad y la resistencia en la modernidad» (IIGG-UBA) y  el «Programa de estudios de teoría política y contemporánea» (CEA-UNC) invitan a participar en el seminario «Variaciones sobre lo común». \nEl plan de trabajo 2026 da continuidad al análisis de dos categorías centrales para el pensamiento crítico contemporáneo: lo común y la frontera. Este nuevo año\, el objetivo es profundizar en las dinámicas de borramiento y colonialidad\, poniendo en tensión las formas de soberanía popular. El desafío principal de este ciclo será desarticular los imaginarios instituidos para habilitar el pensamiento de nuevas alternativas posibles. \nNos juntamos cada 15 días\, los jueves a las 13hs. Así mismo\, mantenemos una modalidad híbrida en los encuentros.\nEste año\, damos inicio al seminario leyendo «El hombre que está solo y espera» de Raúl Scalabrini Ortiz. \nPróximo encuentro: jueves 23/4\, 13hs IIGG (Uriburu 950\, piso 6)\, SALA DE REUNIONES. \nCorreo de contacto: antoniodavidrozenberg@gmail.com
URL:https://www.clacso.org/actividad/seminario-variaciones-sobre-lo-comun-iigg/
CATEGORIES:Centros asociados,Centros Miembros CLACSO
ATTACH;FMTTYPE=image/png:https://www.clacso.org/wp-content/uploads/2026/04/VARIACIONES-SOBRE-LO-COMUN-2.png
ORGANIZER;CN="Instituto de Investigaciones Gino Germani":MAILTO:iigg@sociales.uba.ar
END:VEVENT
BEGIN:VEVENT
DTSTART;TZID=America/Argentina/Buenos_Aires:20260423T140000
DTEND;TZID=America/Argentina/Buenos_Aires:20260511T220000
DTSTAMP:20260423T063151
CREATED:20260416T190950Z
LAST-MODIFIED:20260416T191236Z
UID:10000506-1776952800-1778536800@www.clacso.org
SUMMARY:50° Feria Internacional del Libro de Buenos Aires
DESCRIPTION:Del jueves 23 de abril al lunes 11 de mayo 2026 \n50° Feria Internacional del Libro de Buenos Aires \nOrganizan:Fundación El Libro \nLugar: La Rural\, Predio Ferial de Buenos AiresDías y Horarios: Lunes a viernes de 14 a 22h. Sábados\, domingos y feriados de 13 a 22h
URL:https://www.clacso.org/actividad/50-feria-internacional-del-libro-de-buenos-aires/
ATTACH;FMTTYPE=image/jpeg:https://www.clacso.org/wp-content/uploads/2026/04/FIL.jpg
END:VEVENT
END:VCALENDAR